BEGIN:VCALENDAR
VERSION:2.0
PRODID:-//swoogo.com//NONSGML kigkonsult.se iCalcreator 2.41.90//
CALSCALE:GREGORIAN
UID:34333765-3365-4662-a266-363636373734
BEGIN:VEVENT
UID:6364e6fdfdaeae3de3adae50176e73ace98181c4@swoogo.com
DTSTAMP:20260423T174443Z
DESCRIPTION:Maskwacis Employment Center 2025 Spring Job Fair. 
DTSTART:20251023T160000Z
DTEND:20251023T163000Z
LAST-MODIFIED:20260423T174443Z
LOCATION:Howard Buffalo Memorial Center\, 52A AB-611\, Maskwacis AB T0C 1N0
 \, Canada
SEQUENCE:0
STATUS:CONFIRMED
SUMMARY:MEC 2025 Fall Job Fair
TRANSP:OPAQUE
X-ALT-DESC;FMTTYPE=text/html:<p>Maskwacis Employment Center 2025 Spring Job
  Fair. </p>
BEGIN:VALARM
UID:63306361-3062-4366-b461-656161323466
ACTION:DISPLAY
DESCRIPTION:Maskwacis Employment Center 2025 Spring Job Fair. 
TRIGGER:-PT15M
END:VALARM
END:VEVENT
END:VCALENDAR
